BEGIN:VCALENDAR
VERSION:2.0
PRODID:-//Squarespace Inc/Squarespace 6//v6//EN
BEGIN:VEVENT
UID:59dc95d649fc2bc7c1d9f9f4@squarespace.com
DTSTAMP:20171025T110225Z
DTSTART:20171111T200000Z
DTEND:20171111T220000Z
SUMMARY:LUX ET PAX\, Masterworks of Light and Peace
GEO:53.294906;-6.16214
LOCATION:Monkstown Parish Church\, Monkstown Road\, Monkstown\, County Dubl
 in\, Ireland
END:VEVENT
END:VCALENDAR
