BEGIN:VCALENDAR
VERSION:2.0
PRODID:-//Squarespace Inc/Squarespace 6//v6//EN
BEGIN:VEVENT
UID:58c9104d3e00be19b25c1183@squarespace.com
DTSTAMP:20170430T093134Z
DTSTART:20170610T190000Z
DTEND:20170610T210000Z
SUMMARY:CHORAL FUSION presents Vivaldi
GEO:53.340984;-6.258337
LOCATION:St Ann's Church\, Dawson Street\, Dublin\, County Dublin\, Ireland
END:VEVENT
END:VCALENDAR
