BEGIN:VCALENDAR
VERSION:2.0
PRODID:-//Squarespace Inc/Squarespace 6//v6//EN
BEGIN:VEVENT
UID:58c919d8c534a5668920320f@squarespace.com
DTSTAMP:20170430T093104Z
DTSTART:20170617T190000Z
DTEND:20170617T210000Z
SUMMARY:CHORAL FUSION presents Vivaldi
GEO:53.270668;-9.056791
LOCATION:Galway Cathedral\, Galway\, Ireland
END:VEVENT
END:VCALENDAR
